BEGIN:VCALENDAR
VERSION:2.0
PRODID:DPCALENDAR
CALSCALE:GREGORIAN
BEGIN:VTIMEZONE
TZID:Pacific/Auckland
X-MICROSOFT-CDO-TZID:17
BEGIN:STANDARD
DTSTART:20170401T140000
TZOFFSETFROM:+1300
TZOFFSETTO:+1200
TZNAME:NZST
END:STANDARD
BEGIN:STANDARD
DTSTART:20180331T140000
TZOFFSETFROM:+1300
TZOFFSETTO:+1200
TZNAME:NZST
END:STANDARD
BEGIN:DAYLIGHT
DTSTART:20170923T140000
TZOFFSETFROM:+1200
TZOFFSETTO:+1300
TZNAME:NZDT
END:DAYLIGHT
END:VTIMEZONE
X-WR-TIMEZONE:Pacific/Auckland
BEGIN:VEVENT
DTSTART;VALUE=DATE:20180602
DTEND;VALUE=DATE:20180605
UID:2C6153F8-2E54-4936-BA35-563E861042A7
SUMMARY:PLAYING DATES for Inter-Provincial Champs
DTSTAMP:20170622T050342Z
DESCRIPTION:Note:\NThe tournament will run Saturday to Monday this year.
X-ALT-DESC;FMTTYPE=text/html:<p>Note:</p><p>The tournament will run Saturday to Monday this year.</p>
LOCATION:Cobham Drive\, 6022 Wellington\, New Zealand
GEO:-41.31619760;174.80221520
LAST-MODIFIED:20171113T033751Z
X-ACCESS:1
X-HITS:283
X-URL:
X-COLOR:FF0000
END:VEVENT
END:VCALENDAR