BEGIN:VCALENDAR
VERSION:2.0
PRODID:DPCALENDAR
CALSCALE:GREGORIAN
BEGIN:VTIMEZONE
TZID:Pacific/Auckland
X-MICROSOFT-CDO-TZID:17
BEGIN:STANDARD
DTSTART:20170401T140000
TZOFFSETFROM:+1300
TZOFFSETTO:+1200
TZNAME:NZST
END:STANDARD
BEGIN:STANDARD
DTSTART:20180331T140000
TZOFFSETFROM:+1300
TZOFFSETTO:+1200
TZNAME:NZST
END:STANDARD
BEGIN:DAYLIGHT
DTSTART:20170923T140000
TZOFFSETFROM:+1200
TZOFFSETTO:+1300
TZNAME:NZDT
END:DAYLIGHT
END:VTIMEZONE
X-WR-TIMEZONE:Pacific/Auckland
BEGIN:VEVENT
DTSTART;VALUE=DATE:20180622
DTEND;VALUE=DATE:20180630
UID:4D98A20E-1705-4285-9D78-18F27CC0A800
SUMMARY:19th Asian Men's U20 Volleyball Championships
DTSTAMP:20171113T034931Z
DESCRIPTION:
X-ALT-DESC;FMTTYPE=text/html:
LAST-MODIFIED:20171113T035010Z
X-ACCESS:1
X-HITS:63
X-URL:https://www.volleyballnz.org.nz/performance/2018-performance
X-COLOR:000000
END:VEVENT
END:VCALENDAR