BEGIN:VCALENDAR
VERSION:2.0
PRODID:DPCALENDAR
CALSCALE:GREGORIAN
BEGIN:VTIMEZONE
TZID:Pacific/Auckland
X-MICROSOFT-CDO-TZID:17
BEGIN:STANDARD
DTSTART:20170401T140000
TZOFFSETFROM:+1300
TZOFFSETTO:+1200
TZNAME:NZST
END:STANDARD
BEGIN:STANDARD
DTSTART:20180331T140000
TZOFFSETFROM:+1300
TZOFFSETTO:+1200
TZNAME:NZST
END:STANDARD
BEGIN:DAYLIGHT
DTSTART:20170923T140000
TZOFFSETFROM:+1200
TZOFFSETTO:+1300
TZNAME:NZDT
END:DAYLIGHT
END:VTIMEZONE
X-WR-TIMEZONE:Pacific/Auckland
BEGIN:VEVENT
DTSTART;VALUE=DATE:20180616
DTEND;VALUE=DATE:20180918
UID:89615EA2-CC15-4A96-8FA7-E8EF3DAC05DA
SUMMARY:ZONE QUALIFICATION WINDOW for Club Champs
DTSTAMP:20171113T033615Z
DESCRIPTION:Note:\NNo events on weekends of 15-16 July & 22-23 July (performance window)
X-ALT-DESC;FMTTYPE=text/html:<p>Note:</p><p>No events on weekends of 15-16 July &amp; 22-23 July (performance window)</p>
LAST-MODIFIED:20171113T033852Z
X-ACCESS:1
X-HITS:57
X-URL:
X-COLOR:A1A1A1
END:VEVENT
END:VCALENDAR