BEGIN:VCALENDAR
VERSION:2.0
PRODID:DPCALENDAR
CALSCALE:GREGORIAN
BEGIN:VTIMEZONE
TZID:Pacific/Auckland
X-MICROSOFT-CDO-TZID:17
BEGIN:STANDARD
DTSTART:20170401T140000
TZOFFSETFROM:+1300
TZOFFSETTO:+1200
TZNAME:NZST
END:STANDARD
BEGIN:STANDARD
DTSTART:20180331T140000
TZOFFSETFROM:+1300
TZOFFSETTO:+1200
TZNAME:NZST
END:STANDARD
BEGIN:DAYLIGHT
DTSTART:20170923T140000
TZOFFSETFROM:+1200
TZOFFSETTO:+1300
TZNAME:NZDT
END:DAYLIGHT
END:VTIMEZONE
X-WR-TIMEZONE:Pacific/Auckland
BEGIN:VEVENT
DTSTART;VALUE=DATE:20181003
DTEND;VALUE=DATE:20181007
UID:AFFE5A12-828C-4776-9252-E0CF85E3DAF1
SUMMARY:PLAYING DATES for Club Champs
DTSTAMP:20171113T033424Z
DESCRIPTION:
X-ALT-DESC;FMTTYPE=text/html:
LOCATION:Bruce Pulman Park\, 2112 Takanini\, Auckland\, New Zealand
GEO:-37.04401910;174.94137030
LAST-MODIFIED:20171113T033700Z
X-ACCESS:1
X-HITS:109
X-URL:
X-COLOR:A1A1A1
END:VEVENT
END:VCALENDAR