BEGIN:VCALENDAR
VERSION:2.0
PRODID:DPCALENDAR
CALSCALE:GREGORIAN
BEGIN:VTIMEZONE
TZID:Pacific/Auckland
X-MICROSOFT-CDO-TZID:17
BEGIN:STANDARD
DTSTART:20170401T140000
TZOFFSETFROM:+1300
TZOFFSETTO:+1200
TZNAME:NZST
END:STANDARD
BEGIN:STANDARD
DTSTART:20180331T140000
TZOFFSETFROM:+1300
TZOFFSETTO:+1200
TZNAME:NZST
END:STANDARD
BEGIN:DAYLIGHT
DTSTART:20170923T140000
TZOFFSETFROM:+1200
TZOFFSETTO:+1300
TZNAME:NZDT
END:DAYLIGHT
END:VTIMEZONE
X-WR-TIMEZONE:Pacific/Auckland
BEGIN:VEVENT
DTSTART;VALUE=DATE:20180721
DTEND;VALUE=DATE:20180723
UID:2B6565A0-14EE-4DAA-A2CB-BF8D77C12AE1
SUMMARY:PLAYING DATES for Uni/Tertiary Games 
DTSTAMP:20171113T033229Z
DESCRIPTION:
X-ALT-DESC;FMTTYPE=text/html:
LOCATION:Cobham Drive\, 6022 Wellington\, New Zealand
GEO:-41.31619760;174.80221520
LAST-MODIFIED:20171113T033713Z
X-ACCESS:1
X-HITS:76
X-URL:
X-COLOR:1A12FF
END:VEVENT
END:VCALENDAR