BEGIN:VCALENDAR
VERSION:2.0
PRODID:DPCALENDAR
CALSCALE:GREGORIAN
BEGIN:VTIMEZONE
TZID:Pacific/Auckland
X-MICROSOFT-CDO-TZID:17
BEGIN:STANDARD
DTSTART:20170401T140000
TZOFFSETFROM:+1300
TZOFFSETTO:+1200
TZNAME:NZST
END:STANDARD
BEGIN:STANDARD
DTSTART:20180331T140000
TZOFFSETFROM:+1300
TZOFFSETTO:+1200
TZNAME:NZST
END:STANDARD
BEGIN:DAYLIGHT
DTSTART:20170923T140000
TZOFFSETFROM:+1200
TZOFFSETTO:+1300
TZNAME:NZDT
END:DAYLIGHT
END:VTIMEZONE
X-WR-TIMEZONE:Pacific/Auckland
BEGIN:VEVENT
DTSTART;VALUE=DATE:20180423
DTEND;VALUE=DATE:20180424
UID:D0B24557-1361-4719-AE07-9E10D780BC2C
SUMMARY:ENTRIES CLOSE for the Inter-Provincial Championships
DTSTAMP:20171113T032221Z
DESCRIPTION:Entry Fee: $600.00 per team\N\NOr $500 per team if the Association has at least one team in all 6 grades.\NThis discount does not apply to the host Association\N\NDuty Bond: $100 per team:\N\NPayable with Entry Fee.\N
X-ALT-DESC;FMTTYPE=text/html:<p>Entry Fee: $600.00 per team</p><ul><li>Or $500 per team if the Association has at least one team in all 6 grades.</li><li>This discount does not apply to the host Association</li></ul><p>Duty Bond: $100 per team:</p><ul><li>Payable with Entry Fee.</li></ul>
LAST-MODIFIED:20171113T032852Z
X-ACCESS:1
X-HITS:75
X-URL:
X-COLOR:FF0000
END:VEVENT
END:VCALENDAR