BEGIN:VCALENDAR
VERSION:2.0
PRODID:DPCALENDAR
CALSCALE:GREGORIAN
BEGIN:VTIMEZONE
TZID:Pacific/Auckland
X-MICROSOFT-CDO-TZID:17
BEGIN:STANDARD
DTSTART:20170401T140000
TZOFFSETFROM:+1300
TZOFFSETTO:+1200
TZNAME:NZST
END:STANDARD
BEGIN:STANDARD
DTSTART:20180331T140000
TZOFFSETFROM:+1300
TZOFFSETTO:+1200
TZNAME:NZST
END:STANDARD
BEGIN:DAYLIGHT
DTSTART:20170923T140000
TZOFFSETFROM:+1200
TZOFFSETTO:+1300
TZNAME:NZDT
END:DAYLIGHT
END:VTIMEZONE
X-WR-TIMEZONE:Pacific/Auckland
BEGIN:VEVENT
DTSTART;TZID=Pacific/Auckland:20180131T120000
DTEND;TZID=Pacific/Auckland:20180131T120000
UID:3A7126D9-740C-4AEF-96A3-2E4E409E2E90
SUMMARY:JNR ENTRIES CLOSE for NZ Secondary School Beach Champs
DTSTAMP:20170623T061546Z
DESCRIPTION:
X-ALT-DESC;FMTTYPE=text/html:
LAST-MODIFIED:20170623T061815Z
X-ACCESS:1
X-HITS:223
X-URL:/schools/2018NZSSBVC
X-COLOR:45442B
END:VEVENT
END:VCALENDAR