BEGIN:VCALENDAR
VERSION:2.0
PRODID:DPCALENDAR
CALSCALE:GREGORIAN
BEGIN:VTIMEZONE
TZID:Pacific/Auckland
X-MICROSOFT-CDO-TZID:17
BEGIN:STANDARD
DTSTART:20170401T140000
TZOFFSETFROM:+1300
TZOFFSETTO:+1200
TZNAME:NZST
END:STANDARD
BEGIN:STANDARD
DTSTART:20180331T140000
TZOFFSETFROM:+1300
TZOFFSETTO:+1200
TZNAME:NZST
END:STANDARD
BEGIN:DAYLIGHT
DTSTART:20170923T140000
TZOFFSETFROM:+1200
TZOFFSETTO:+1300
TZNAME:NZDT
END:DAYLIGHT
END:VTIMEZONE
X-WR-TIMEZONE:Pacific/Auckland
BEGIN:VEVENT
DTSTART;TZID=Pacific/Auckland:20180130T150000
DTEND;TZID=Pacific/Auckland:20180130T150000
UID:DE910704-FA18-405F-A693-98E69E4FC6E1
SUMMARY:SNR ENTRIES CLOSE for NZ Secondary School Beach Champs
DTSTAMP:20170623T061426Z
DESCRIPTION:
X-ALT-DESC;FMTTYPE=text/html:
LAST-MODIFIED:20170623T061829Z
X-ACCESS:1
X-HITS:230
X-URL:/schools/2018NZSSBVC
X-COLOR:45442B
END:VEVENT
END:VCALENDAR