BEGIN:VCALENDAR
VERSION:2.0
PRODID:DPCALENDAR
CALSCALE:GREGORIAN
BEGIN:VTIMEZONE
TZID:Pacific/Auckland
X-MICROSOFT-CDO-TZID:17
BEGIN:STANDARD
DTSTART:20170401T140000
TZOFFSETFROM:+1300
TZOFFSETTO:+1200
TZNAME:NZST
END:STANDARD
BEGIN:STANDARD
DTSTART:20180331T140000
TZOFFSETFROM:+1300
TZOFFSETTO:+1200
TZNAME:NZST
END:STANDARD
BEGIN:DAYLIGHT
DTSTART:20170923T140000
TZOFFSETFROM:+1200
TZOFFSETTO:+1300
TZNAME:NZDT
END:DAYLIGHT
END:VTIMEZONE
X-WR-TIMEZONE:Pacific/Auckland
BEGIN:VEVENT
DTSTART;VALUE=DATE:20180305
DTEND;VALUE=DATE:20180310
UID:D6F1F34D-1D86-4B92-B087-C756FC561140
SUMMARY:TEAMLIST WINDOW for NZ Secondary School Champs
DTSTAMP:20170623T061156Z
DESCRIPTION:
X-ALT-DESC;FMTTYPE=text/html:
X-ACCESS:1
X-HITS:221
X-URL:/schools/2018NZSSVC
X-COLOR:02167A
END:VEVENT
END:VCALENDAR