BEGIN:VCALENDAR
VERSION:2.0
PRODID:DPCALENDAR
CALSCALE:GREGORIAN
BEGIN:VTIMEZONE
TZID:Pacific/Auckland
X-MICROSOFT-CDO-TZID:17
BEGIN:STANDARD
DTSTART:20170401T140000
TZOFFSETFROM:+1300
TZOFFSETTO:+1200
TZNAME:NZST
END:STANDARD
BEGIN:STANDARD
DTSTART:20180331T140000
TZOFFSETFROM:+1300
TZOFFSETTO:+1200
TZNAME:NZST
END:STANDARD
BEGIN:DAYLIGHT
DTSTART:20170923T140000
TZOFFSETFROM:+1200
TZOFFSETTO:+1300
TZNAME:NZDT
END:DAYLIGHT
END:VTIMEZONE
X-WR-TIMEZONE:Pacific/Auckland
BEGIN:VEVENT
DTSTART;TZID=Pacific/Auckland:20180226T170000
DTEND;TZID=Pacific/Auckland:20180226T170000
UID:8931F6FB-5972-47DD-9D64-EC34C2DEEACA
SUMMARY:ENTRIES CLOSE for NZ Secondary Schools Champs
DTSTAMP:20170623T060935Z
DESCRIPTION:
X-ALT-DESC;FMTTYPE=text/html:
LAST-MODIFIED:20170623T061558Z
X-ACCESS:1
X-HITS:230
X-URL:/schools/2018NZSSVC
X-COLOR:02167A
END:VEVENT
END:VCALENDAR