BEGIN:VCALENDAR
VERSION:2.0
PRODID:DPCALENDAR
CALSCALE:GREGORIAN
BEGIN:VTIMEZONE
TZID:Pacific/Auckland
X-MICROSOFT-CDO-TZID:17
BEGIN:STANDARD
DTSTART:20170401T140000
TZOFFSETFROM:+1300
TZOFFSETTO:+1200
TZNAME:NZST
END:STANDARD
BEGIN:STANDARD
DTSTART:20180331T140000
TZOFFSETFROM:+1300
TZOFFSETTO:+1200
TZNAME:NZST
END:STANDARD
BEGIN:DAYLIGHT
DTSTART:20170923T140000
TZOFFSETFROM:+1200
TZOFFSETTO:+1300
TZNAME:NZDT
END:DAYLIGHT
END:VTIMEZONE
X-WR-TIMEZONE:Pacific/Auckland
BEGIN:VEVENT
DTSTART;VALUE=DATE:20180203
DTEND;VALUE=DATE:20180205
UID:2E98F34B-557B-4952-8875-3855EA89A573
SUMMARY:PLAYING DATES for NZ Secondary School Beach Champs
DTSTAMP:20170622T055013Z
DESCRIPTION:
X-ALT-DESC;FMTTYPE=text/html:
LOCATION:15 Marine Parade\, 3116 Tauranga\, Bay Of Plenty\, New Zealand
GEO:-37.63289620;176.18006230
LAST-MODIFIED:20170623T061759Z
X-ACCESS:1
X-HITS:230
X-URL:/schools/2018NZSSVCB
X-COLOR:45442B
END:VEVENT
END:VCALENDAR