BEGIN:VCALENDAR
VERSION:2.0
PRODID:DPCALENDAR
CALSCALE:GREGORIAN
BEGIN:VTIMEZONE
TZID:Pacific/Auckland
X-MICROSOFT-CDO-TZID:17
BEGIN:STANDARD
DTSTART:20170401T140000
TZOFFSETFROM:+1300
TZOFFSETTO:+1200
TZNAME:NZST
END:STANDARD
BEGIN:STANDARD
DTSTART:20180331T140000
TZOFFSETFROM:+1300
TZOFFSETTO:+1200
TZNAME:NZST
END:STANDARD
BEGIN:DAYLIGHT
DTSTART:20170923T140000
TZOFFSETFROM:+1200
TZOFFSETTO:+1300
TZNAME:NZDT
END:DAYLIGHT
END:VTIMEZONE
X-WR-TIMEZONE:Pacific/Auckland
BEGIN:VEVENT
DTSTART;VALUE=DATE:20180319
DTEND;VALUE=DATE:20180324
UID:FA6F2A0D-4085-4C5A-94A4-25D799202BFC
SUMMARY:PLAYING DATES for NZ Secondary School Volleyball Champs
DTSTAMP:20170621T021411Z
DESCRIPTION:
X-ALT-DESC;FMTTYPE=text/html:
LOCATION:61 Pascal Street\, 4410 Palmerston North\, Manawatu-Wanganui\, New Zealand
GEO:-40.35614240;175.59896920
LAST-MODIFIED:20170623T060442Z
X-ACCESS:1
X-HITS:385
X-URL:/schools/2018NZSSVC
X-COLOR:02167A
END:VEVENT
END:VCALENDAR